Workbook

Sheet Éves összesítés
A1: Érdi Vizisport Kft. üzleti terv | B1: 2022
B2: I – XII. Hó
A3: Árbevétel | B3: 108350000
A4: Úszásoktatás bevétele megbízási szerződés alapján | B4: 45600000
A5: Tankerülettől kapott bevétel szerződés alapján | B5: 26200000
A6: MÚSZ támogatás | B6: 0
A7: MÚSZ célzott támogatás (csak meghatározott célra fordítható) | B7: 9500000
A8: Tanfolyamok díja (szülők által fizetett szolgáltatási díj) | B8: 15750000
A9: Versenyzői hozzájárulás | B9: 4800000
A10: Versenyekből származó árbevétel (nevezési díjak) | B10: 0
A11: Szponzori támogatás | B11: 0
A12: Egyéb támogatás | B12: 0
A13: Egyéb bevétel (a fentiek közül egyik kategóriába sem tartozó) | B13: 6500000
A14: Szolgáltatással összefüggő közvetlen ktg-ek | B14: 23800000
... A73: Illetékek | B73: 0
A74: Értékcsökkenési leírás
A76: Összes költség és ráfordítás | B76: 108641000
A78: Eredmény | B78: -291000

Sheet Költségvetés összesítő
B1: 2022
B2: Január | C2: Február | D2: Március | E2: Április | F2: Május | G2: Június | H2: Július | I2: Augusztus | J2: Szeptember | K2: Október | L2: November | M2: December | N2: Összesen 2022 | O2: Megjegyzés
A3: Árbevétel | B3: =SUM(B4:B13) -> 8700000 | C3: =SUM(C4:C13) -> 8700000 | D3: =SUM(D4:D13) -> 8700000 | E3: =SUM(E4:E13) -> 8700000 | F3: =SUM(F4:F13) -> 7800000 | G3: =SUM(G4:G13) -> 8950000 | H3: =SUM(H4:H13) -> 17200000 | I3: =SUM(I4:I13) -> 4200000 | ... N3: =SUM(N4:N13) -> 108350000
A4: Úszásoktatás bevétele megbízási szerződés alapján | B4: 3800000 | C4: 3800000 | D4: 3800000 | E4: 3800000 | F4: 3800000 | G4: 3800000 | H4: 3800000 | I4: 3800000 | J4: 3800000 | K4: 3800000 | L4: 3800000 | M4: 3800000 | N4: =SUM(B4:M4) -> 45600000
A5: Tankerülettől kapott bevétel szerződés alapján | B5: 3000000 | C5: 3000000 | D5: 3000000 | E5: 3000000 | F5: 2500000 | G5: 1200000 | J5: 1750000 | K5: 3500000 | L5: 3500000 | M5: 1750000 | N5: =SUM(B5:M5) -> 26200000
A6: MÚSZ támogatás | N6: =SUM(B6:M6) -> 0
A7: MÚSZ célzott támogatás (csak meghatározott célra fordítható) | H7: 9500000 | N7: =SUM(B7:M7) -> 9500000
A8: Tanfolyamok díja (szülők által fizetett szolgáltatási díj) | B8: 1500000 | C8: 1500000 | D8: 1500000 | E8: 1500000 | F8: 1100000 | G8: 550000 | H8: 0 | I8: 0 | J8: 1800000 | K8: 2800000 | L8: 2300000 | M8: 1200000 | N8: =SUM(B8:M8) -> 15750000
A9: Versenyzői hozzájárulás | B9: 400000 | C9: 400000 | D9: 400000 | E9: 400000 | F9: 400000 | G9: 400000 | H9: 400000 | I9: 400000 | J9: 400000 | K9: 400000 | L9: 400000 | M9: 400000 | N9: =SUM(B9:M9) -> 4800000
A10: Versenyekből származó árbevétel (nevezési díjak) | N10: =SUM(B10:M10) -> 0
A11: Szponzori támogatás | N11: =SUM(B11:M11) -> 0
A12: Egyéb támogatás | N12: =SUM(B12:M12) -> 0
A13: Egyéb bevétel (nyári tábor) | G13: 3000000 | H13: 3500000 | N13: =SUM(B13:M13) -> 6500000
A14: Szolgáltatással összefüggő közvetlen ktg-ek | B14: =SUM(B15:B19) -> 2450000 | C14: =SUM(C15:C19) -> 2450000 | D14: =SUM(D15:D19) -> 2450000 | E14: =SUM(E15:E19) -> 2450000 | F14: =SUM(F15:F19) -> 2250000 | G14: =SUM(G15:G19) -> 1700000 | H14: =SUM(H15:H19) -> 950000 | I14: =SUM(I15:I19) -> 950000 | ... N14: =SUM(N15:N19) -> 23800000
A15: Versenyzők pálya bérlete | B15: 500000 | C15: 500000 | D15: 500000 | E15: 500000 | F15: 500000 | G15: 500000 | H15: 500000 | I15: 500000 | J15: 500000 | K15: 500000 | L15: 500000 | M15: 500000 | N15: =SUM(B15:M15) -> 6000000
A16: Oktatás pályabérlete | B16: 300000 | C16: 300000 | D16: 300000 | E16: 300000 | F16: 300000 | G16: 300000 | H16: 300000 | I16: 300000 | J16: 600000 | K16: 600000 | L16: 600000 | M16: 600000 | N16: =SUM(B16:M16) -> 4800000
A17: Egyéb közvetlen költségek | N17: =SUM(B17:M17) -> 0
A18: Busz Klik-es úszás | B18: 1500000 | C18: 1500000 | D18: 1500000 | E18: 1500000 | F18: 1300000 | G18: 750000 | H18: 0 | I18: 0 | J18: 0 | K18: 1260000 | L18: 1260000 | M18: 630000 | N18: =SUM(B18:M18) -> 11200000
A19: Gyúró | B19: 150000 | C19: 150000 | D19: 150000 | E19: 150000 | F19: 150000 | G19: 150000 | H19: 150000 | I19: 150000 | J19: 150000 | K19: 150000 | L19: 150000 | M19: 150000 | N19: =SUM(B19:M19) -> 1800000
A20: Személyi jellegű összesen | B20: =B21+B26 -> 4226800 | C20: =C21+C26 -> 4226800 | D20: =D21+D26 -> 4276800 | E20: =E21+E26 -> 4784400 | F20: =F21+F26 -> 4484400 | G20: =G21+G26 -> 4484400 | H20: =H21+H26 -> 7684400 | I20: =I21+I26 -> 4484400 | ... N20: =N21+N26 -> 61984000
A21: Személyi költségek | B21: =SUM(B22:B25) -> 4176800 | C21: =SUM(C22:C25) -> 4176800 | D21: =SUM(D22:D25) -> 4176800 | E21: =SUM(E22:E25) -> 4434400 | F21: =SUM(F22:F25) -> 4434400 | G21: =SUM(G22:G25) -> 4434400 | H21: =SUM(H22:H25) -> 7434400 | I21: =SUM(I22:I25) -> 4434400 | ... N21: =SUM(N22:N25) -> 60384000
A22: Alapbér | B22: ='HR költségek'!N19 -> 3632000 | C22: ='HR költségek'!Q19 -> 3632000 | D22: ='HR költségek'!T19 -> 3632000 | E22: ='HR költségek'!W19 -> 3856000 | F22: ='HR költségek'!Z19 -> 3856000 | G22: ='HR költségek'!AC19 -> 3856000 | H22: ='HR költségek'!AF19 -> 3856000 | I22: ='HR költségek'!AI19 -> 3856000 | J22: ='HR költségek'!AL19 -> 4496000 | K22: ='HR költségek'!AO19 -> 4496000 | L22: ='HR költségek'!AR19 -> 4496000 | M22: ='HR költségek'!AU19 -> 4496000 | N22: =SUM(B22:M22) -> 48160000
A23: Járulék | B23: ='HR költségek'!O19 -> 544800 | C23: ='HR költségek'!R19 -> 544800 | D23: ='HR költségek'!U19 -> 544800 | E23: ='HR költségek'!X19 -> 578400 | F23: ='HR költségek'!AA19 -> 578400 | G23: ='HR költségek'!AD19 -> 578400 | H23: ='HR költségek'!AG19 -> 578400 | I23: ='HR költségek'!AJ19 -> 578400 | J23: ='HR költségek'!AM19 -> 674400 | K23: ='HR költségek'!AP19 -> 674400 | L23: ='HR költségek'!AS19 -> 674400 | M23: ='HR költségek'!AV19 -> 674400 | N23: =SUM(B23:M23) -> 7224000
A24: Számlás személyi | B24: ='HR költségek'!P19 -> 0 | C24: ='HR költségek'!S19 -> 0 | D24: ='HR költségek'!V19 -> 0 | E24: ='HR költségek'!Y19 -> 0 | F24: ='HR költségek'!AB19 -> 0 | G24: ='HR költségek'!AE19 -> 0 | H24: ='HR költségek'!AH19 -> 0 | I24: ='HR költségek'!AK19 -> 0 | J24: ='HR költségek'!AN19 -> 0 | K24: ='HR költségek'!AQ19 -> 0 | L24: ='HR költségek'!AT19 -> 0 | M24: ='HR költségek'!AW19 -> 0 | N24: =SUM(B24:M24) -> 0
A25: Bónusz, jutalom | B25: 0 | C25: 0 | D25: 0 | E25: 0 | F25: =F8-1100000 -> 0 | G25: 0 | H25: 3000000 | M25: 2000000 | N25: =SUM(B25:M25) -> 5000000
A26: Egyéb személyi jellegű | B26: =SUM(B27:B33) -> 50000 | C26: =SUM(C27:C33) -> 50000 | D26: =SUM(D27:D33) -> 100000 | E26: =SUM(E27:E33) -> 350000 | F26: =SUM(F27:F33) -> 50000 | G26: =SUM(G27:G33) -> 50000 | H26: =SUM(H27:H33) -> 250000 | I26: =SUM(I27:I33) -> 50000 | ... N26: =SUM(N27:N33) -> 1600000
A27: Kiküldetési díjak | B27: 50000 | C27: 50000 | D27: 50000 | E27: 50000 | F27: 50000 | G27: 50000 | H27: 50000 | I27: 50000 | J27: 50000 | K27: 50000 | L27: 50000 | M27: 50000 | N27: =SUM(B27:M27) -> 600000
A28: "Cafeteria" | N28: =SUM(B28:M28) -> 0
A29: Munkatársak jutalmazása / ösztönzése | N29: =SUM(B29:M29) -> 0
A30: Irodai ellátások ktg-ei | D30: 50000 | J30: 50000 | N30: =SUM(B30:M30) -> 100000
A31: Reprezentáció / vendéglátás | H31: 200000 | M31: 200000 | N31: =SUM(B31:M31) -> 400000
A32: Munkaruha, védőfelszerelés | E32: 300000 | K32: 200000 | N32: =SUM(B32:M32) -> 500000
A33: Oktatások, továbbképzések díjai | B33: 0 | C33: 0 | D33: 0 | E33: 0 | F33: 0 | G33: 0 | H33: 0 | I33: 0 | J33: 0 | K33: 0 | L33: 0 | M33: 0 | N33: =SUM(B33:M33) -> 0
A34: Működési költségek | B34: =SUM(B35:B50) -> 810000 | C34: =SUM(C35:C50) -> 720000 | D34: =SUM(D35:D50) -> 720000 | E34: =SUM(E35:E50) -> 750000 | F34: =SUM(F35:F50) -> 850000 | G34: =SUM(G35:G50) -> 720000 | H34: =SUM(H35:H50) -> 750000 | I34: =SUM(I35:I50) -> 720000 | ... N34: =SUM(N35:N50) -> 9000000
A35: Irodabérlet | B35: 0 | C35: 0 | D35: 0 | E35: 0 | F35: 0 | G35: 0 | H35: 0 | I35: 0 | J35: 0 | K35: 0 | L35: 0 | M35: 0 | N35: =SUM(B35:M35) -> 0
A36: Rezsi (villany, gáz, fűtés, stb.) | B36: 0 | C36: 0 | D36: 0 | E36: 0 | F36: 0 | G36: 0 | H36: 0 | I36: 0 | J36: 0 | K36: 0 | L36: 0 | M36: 0 | N36: =SUM(B36:M36) -> 0
A37: Autóbérlet (kisbusz(ok) bérleti díja) | B37: 180000 | C37: 180000 | D37: 180000 | E37: 180000 | F37: 180000 | G37: 180000 | H37: 180000 | I37: 180000 | J37: 180000 | K37: 180000 | L37: 180000 | M37: 180000 | N37: =SUM(B37:M37) -> 2160000
A38: Autófenntartási ktg-ek (minden, ami nem üzemanyag) | B38: 30000 | C38: 30000 | D38: 30000 | E38: 30000 | F38: 30000 | G38: 30000 | H38: 30000 | I38: 30000 | J38: 30000 | K38: 30000 | L38: 30000 | M38: 30000 | N38: =SUM(B38:M38) -> 360000
A39: Üzemanyag | B39: 160000 | C39: 100000 | D39: 100000 | E39: 100000 | F39: 100000 | G39: 100000 | H39: 100000 | I39: 100000 | J39: 100000 | K39: 100000 | L39: 100000 | M39: 100000 | N39: =SUM(B39:M39) -> 1260000
A40: Internet / Telefon / Posta | B40: 30000 | C40: 30000 | D40: 30000 | E40: 30000 | F40: 30000 | G40: 30000 | H40: 30000 | I40: 30000 | J40: 30000 | K40: 30000 | L40: 30000 | M40: 30000 | N40: =SUM(B40:M40) -> 360000
A41: Iroda fenntartás (irodaszerek, stb.) | B41: 30000 | E41: 30000 | H41: 30000 | K41: 30000 | N41: =SUM(B41:M41) -> 120000
A42: Munkaegészségügy / Munkavédelem | B42: 0 | C42: 0 | D42: 0 | E42: 0 | F42: 0 | G42: 0 | H42: 0 | I42: 0 | J42: 0 | K42: 50000 | L42: 0 | M42: 0 | N42: =SUM(B42:M42) -> 50000
A43: Jogi tanácsadás | B43: 20000 | C43: 20000 | D43: 20000 | E43: 20000 | F43: 20000 | G43: 20000 | H43: 20000 | I43: 20000 | J43: 20000 | K43: 20000 | L43: 20000 | M43: 20000 | N43: =SUM(B43:M43) -> 240000
A44: Könyvelés, számlázás | B44: 130000 | C44: 130000 | D44: 130000 | E44: 130000 | F44: 260000 | G44: 130000 | H44: 130000 | I44: 130000 | J44: 130000 | K44: 130000 | L44: 130000 | M44: 130000 | N44: =SUM(B44:M44) -> 1690000
A45: Könyvvizsgálat | B45: 40000 | C45: 40000 | D45: 40000 | E45: 40000 | F45: 40000 | G45: 40000 | H45: 40000 | I45: 40000 | J45: 40000 | K45: 40000 | L45: 40000 | M45: 40000 | N45: =SUM(B45:M45) -> 480000
A46: Banki ktg-ek | B46: 20000 | C46: 20000 | D46: 20000 | E46: 20000 | F46: 20000 | G46: 20000 | H46: 20000 | I46: 20000 | J46: 20000 | K46: 20000 | L46: 20000 | M46: 20000 | N46: =SUM(B46:M46) -> 240000
A47: HR szolgáltatás | B47: 0 | C47: 0 | D47: 0 | E47: 0 | F47: 0 | G47: 0 | H47: 0 | I47: 0 | J47: 0 | K47: 0 | L47: 0 | M47: 0 | N47: =SUM(B47:M47) -> 0
A48: Egyéb szakértői díjak | B48: 0 | C48: 0 | D48: 0 | E48: 0 | F48: 0 | G48: 0 | H48: 0 | I48: 0 | J48: 0 | K48: 0 | L48: 0 | M48: 0 | N48: =SUM(B48:M48) -> 0
A49: Biztosítások | B49: 20000 | C49: 20000 | D49: 20000 | E49: 20000 | F49: 20000 | G49: 20000 | H49: 20000 | I49: 20000 | J49: 20000 | K49: 20000 | L49: 20000 | M49: 20000 | N49: =SUM(B49:M49) -> 240000
A50: Általános üzletviteli tartalék | B50: 150000 | C50: 150000 | D50: 150000 | E50: 150000 | F50: 150000 | G50: 150000 | H50: 150000 | I50: 150000 | J50: 150000 | K50: 150000 | L50: 150000 | M50: 150000 | N50: =SUM(B50:M50) -> 1800000
A51: Oktatással összefüggő speciális költségek | B51: =SUM(B52:B57) -> 0 | C51: =SUM(C52:C57) -> 0 | D51: =SUM(D52:D57) -> 0 | E51: =SUM(E52:E57) -> 0 | F51: =SUM(F52:F57) -> 0 | G51: =SUM(G52:G57) -> 2300000 | H51: =SUM(H52:H57) -> 2400000 | I51: =SUM(I52:I57) -> 0 | ... O51: =SUM(O52:O57) -> 0
A52: Tábor étkezés | B52: 0 | C52: 0 | D52: 0 | E52: 0 | F52: 0 | G52: 1150000 | H52: 1150000 | J52: 0 | K52: 0 | L52: 0 | M52: 0 | N52: =SUM(B52:M52) -> 2300000
A53: Tábor pályabérlet | B53: 0 | C53: 0 | D53: 0 | E53: 0 | F53: 0 | G53: 300000 | H53: 300000 | J53: 0 | K53: 0 | L53: 0 | M53: 0 | N53: =SUM(B53:M53) -> 600000
A54: Tábor iskola bérlet | B54: 0 | C54: 0 | D54: 0 | E54: 0 | F54: 0 | G54: 200000 | H54: 300000 | J54: 0 | K54: 0 | L54: 0 | M54: 0 | N54: =SUM(B54:M54) -> 500000
A55: Tábor felügyelők | B55: 0 | C55: 0 | D55: 0 | E55: 0 | F55: 0 | G55: 500000 | H55: 500000 | J55: 0 | K55: 0 | L55: 0 | M55: 0 | N55: =SUM(B55:M55) -> 1000000
A56: Tábor egyéb programok | G56: 150000 | H56: 150000 | N56: =SUM(B56:M56) -> 300000
A57: kérjük beírni 6 | N57: =SUM(B57:M57) -> 0
A58: Versenysporttal kapcsolatos speciális költségek | B58: =SUM(B59:B62) -> 0 | C58: =SUM(C59:C62) -> 950000 | D58: =SUM(D59:D62) -> 1600000 | E58: =SUM(E59:E62) -> 450000 | F58: =SUM(F59:F62) -> 450000 | G58: =SUM(G59:G62) -> 500000 | H58: =SUM(H59:H62) -> 2305000 | I58: =SUM(I59:I62) -> 0 | ... O58: =SUM(O59:O62) -> 0
A59: Formaruha | N59: =SUM(B59:M59) -> 0
A60: Egyen-felszerelés (táska, stb.) | N60: =SUM(B60:M60) -> 0
A61: Edzőtáborok költségei | B61: =SUMIFS('Edzőtáborok, versenyek'!$F2:$F10,'Edzőtáborok, versenyek'!$B2:$B10,"202101",'Edzőtáborok, versenyek'!$C2:$C10,"edzőtábor")+SUMIFS('Edzőtáborok, versenyek'!$G2:$G10,'Edzőtáborok, versenyek'!$B2:$B10,"202101",'Edzőtáborok, versenyek'!$C2:$C10,"edzőtábor")+SUMIFS('Edzőtáborok, versenyek'!$H2:$H10,'Edzőtáborok, versenyek'!$B2:$B10,"202101",'Edzőtáborok, versenyek'!$C2:$C10,"edzőtábor")+SUMIFS('Edzőtáborok, versenyek'!$I2:$I10,'Edzőtáborok, versenyek'!$B2:$B10,"202101",'Edzőtáborok, versenyek'!$C2:$C10,"edzőtábor") -> 0 | C61: 650000 | D61: 1200000 | E61: =SUMIFS('Edzőtáborok, versenyek'!$F2:$F10,'Edzőtáborok, versenyek'!$B2:$B10,"202104",'Edzőtáborok, versenyek'!$C2:$C10,"edzőtábor")+SUMIFS('Edzőtáborok, versenyek'!$G2:$G10,'Edzőtáborok, versenyek'!$B2:$B10,"202104",'Edzőtáborok, versenyek'!$C2:$C10,"edzőtábor")+SUMIFS('Edzőtáborok, versenyek'!$H2:$H10,'Edzőtáborok, versenyek'!$B2:$B10,"202104",'Edzőtáborok, versenyek'!$C2:$C10,"edzőtábor")+SUMIFS('Edzőtáborok, versenyek'!$I2:$I10,'Edzőtáborok, versenyek'!$B2:$B10,"202104",'Edzőtáborok, versenyek'!$C2:$C10,"edzőtábor") -> 0 | F61: =SUMIFS('Edzőtáborok, versenyek'!$F2:$F10,'Edzőtáborok, versenyek'!$B2:$B10,"202105",'Edzőtáborok, versenyek'!$C2:$C10,"edzőtábor")+SUMIFS('Edzőtáborok, versenyek'!$G2:$G10,'Edzőtáborok, versenyek'!$B2:$B10,"202105",'Edzőtáborok, versenyek'!$C2:$C10,"edzőtábor")+SUMIFS('Edzőtáborok, versenyek'!$H2:$H10,'Edzőtáborok, versenyek'!$B2:$B10,"202105",'Edzőtáborok, versenyek'!$C2:$C10,"edzőtábor")+SUMIFS('Edzőtáborok, versenyek'!$I2:$I10,'Edzőtáborok, versenyek'!$B2:$B10,"202105",'Edzőtáborok, versenyek'!$C2:$C10,"edzőtábor") -> 0 | G61: =SUMIFS('Edzőtáborok, versenyek'!$F2:$F10,'Edzőtáborok, versenyek'!$B2:$B10,"202106",'Edzőtáborok, versenyek'!$C2:$C10,"edzőtábor")+SUMIFS('Edzőtáborok, versenyek'!$G2:$G10,'Edzőtáborok, versenyek'!$B2:$B10,"202106",'Edzőtáborok, versenyek'!$C2:$C10,"edzőtábor")+SUMIFS('Edzőtáborok, versenyek'!$H2:$H10,'Edzőtáborok, versenyek'!$B2:$B10,"202106",'Edzőtáborok, versenyek'!$C2:$C10,"edzőtábor")+SUMIFS('Edzőtáborok, versenyek'!$I2:$I10,'Edzőtáborok, versenyek'!$B2:$B10,"202106",'Edzőtáborok, versenyek'!$C2:$C10,"edzőtábor") -> 0 | H61: 1805000 | I61: =SUMIFS('Edzőtáborok, versenyek'!$F2:$F10,'Edzőtáborok, versenyek'!$B2:$B10,"202108",'Edzőtáborok, versenyek'!$C2:$C10,"edzőtábor")+SUMIFS('Edzőtáborok, versenyek'!$G2:$G10,'Edzőtáborok, versenyek'!$B2:$B10,"202108",'Edzőtáborok, versenyek'!$C2:$C10,"edzőtábor")+SUMIFS('Edzőtáborok, versenyek'!$H2:$H10,'Edzőtáborok, versenyek'!$B2:$B10,"202108",'Edzőtáborok, versenyek'!$C2:$C10,"edzőtábor")+SUMIFS('Edzőtáborok, versenyek'!$I2:$I10,'Edzőtáborok, versenyek'!$B2:$B10,"202108",'Edzőtáborok, versenyek'!$C2:$C10,"edzőtábor") -> 0 | J61: =SUMIFS('Edzőtáborok, versenyek'!$F2:$F10,'Edzőtáborok, versenyek'!$B2:$B10,"202109",'Edzőtáborok, versenyek'!$C2:$C10,"edzőtábor")+SUMIFS('Edzőtáborok, versenyek'!$G2:$G10,'Edzőtáborok, versenyek'!$B2:$B10,"202109",'Edzőtáborok, versenyek'!$C2:$C10,"edzőtábor")+SUMIFS('Edzőtáborok, versenyek'!$H2:$H10,'Edzőtáborok, versenyek'!$B2:$B10,"202109",'Edzőtáborok, versenyek'!$C2:$C10,"edzőtábor")+SUMIFS('Edzőtáborok, versenyek'!$I2:$I10,'Edzőtáborok, versenyek'!$B2:$B10,"202109",'Edzőtáborok, versenyek'!$C2:$C10,"edzőtábor") -> 0 | K61: =SUMIFS('Edzőtáborok, versenyek'!$F2:$F10,'Edzőtáborok, versenyek'!$B2:$B10,"202110",'Edzőtáborok, versenyek'!$C2:$C10,"edzőtábor")+SUMIFS('Edzőtáborok, versenyek'!$G2:$G10,'Edzőtáborok, versenyek'!$B2:$B10,"202110",'Edzőtáborok, versenyek'!$C2:$C10,"edzőtábor")+SUMIFS('Edzőtáborok, versenyek'!$H2:$H10,'Edzőtáborok, versenyek'!$B2:$B10,"202110",'Edzőtáborok, versenyek'!$C2:$C10,"edzőtábor")+SUMIFS('Edzőtáborok, versenyek'!$I2:$I10,'Edzőtáborok, versenyek'!$B2:$B10,"202110",'Edzőtáborok, versenyek'!$C2:$C10,"edzőtábor") -> 0 | L61: =SUMIFS('Edzőtáborok, versenyek'!$F2:$F10,'Edzőtáborok, versenyek'!$B2:$B10,"202111",'Edzőtáborok, versenyek'!$C2:$C10,"edzőtábor")+SUMIFS('Edzőtáborok, versenyek'!$G2:$G10,'Edzőtáborok, versenyek'!$B2:$B10,"202111",'Edzőtáborok, versenyek'!$C2:$C10,"edzőtábor")+SUMIFS('Edzőtáborok, versenyek'!$H2:$H10,'Edzőtáborok, versenyek'!$B2:$B10,"202111",'Edzőtáborok, versenyek'!$C2:$C10,"edzőtábor")+SUMIFS('Edzőtáborok, versenyek'!$I2:$I10,'Edzőtáborok, versenyek'!$B2:$B10,"202111",'Edzőtáborok, versenyek'!$C2:$C10,"edzőtábor") -> 0 | M61: =SUMIFS('Edzőtáborok, versenyek'!$F2:$F10,'Edzőtáborok, versenyek'!$B2:$B10,"202112",'Edzőtáborok, versenyek'!$C2:$C10,"edzőtábor")+SUMIFS('Edzőtáborok, versenyek'!$G2:$G10,'Edzőtáborok, versenyek'!$B2:$B10,"202112",'Edzőtáborok, versenyek'!$C2:$C10,"edzőtábor")+SUMIFS('Edzőtáborok, versenyek'!$H2:$H10,'Edzőtáborok, versenyek'!$B2:$B10,"202112",'Edzőtáborok, versenyek'!$C2:$C10,"edzőtábor")+SUMIFS('Edzőtáborok, versenyek'!$I2:$I10,'Edzőtáborok, versenyek'!$B2:$B10,"202112",'Edzőtáborok, versenyek'!$C2:$C10,"edzőtábor") -> 0 | N61: =SUM(B61:M61) -> 3655000
A62: Versenyek költségei | B62: =SUMIFS('Edzőtáborok, versenyek'!$F2:$F10,'Edzőtáborok, versenyek'!$B2:$B10,"202101",'Edzőtáborok, versenyek'!$C2:$C10,"verseny")+SUMIFS('Edzőtáborok, versenyek'!$G2:$G10,'Edzőtáborok, versenyek'!$B2:$B10,"202101",'Edzőtáborok, versenyek'!$C2:$C10,"verseny")+SUMIFS('Edzőtáborok, versenyek'!$H2:$H10,'Edzőtáborok, versenyek'!$B2:$B10,"202101",'Edzőtáborok, versenyek'!$C2:$C10,"verseny")+SUMIFS('Edzőtáborok, versenyek'!$I2:$I10,'Edzőtáborok, versenyek'!$B2:$B10,"202101",'Edzőtáborok, versenyek'!$C2:$C10,"verseny") -> 0 | C62: 300000 | D62: 400000 | E62: 450000 | F62: 450000 | G62: 500000 | H62: 500000 | I62: =SUMIFS('Edzőtáborok, versenyek'!$F2:$F10,'Edzőtáborok, versenyek'!$B2:$B10,"202108",'Edzőtáborok, versenyek'!$C2:$C10,"verseny")+SUMIFS('Edzőtáborok, versenyek'!$G2:$G10,'Edzőtáborok, versenyek'!$B2:$B10,"202108",'Edzőtáborok, versenyek'!$C2:$C10,"verseny")+SUMIFS('Edzőtáborok, versenyek'!$H2:$H10,'Edzőtáborok, versenyek'!$B2:$B10,"202108",'Edzőtáborok, versenyek'!$C2:$C10,"verseny")+SUMIFS('Edzőtáborok, versenyek'!$I2:$I10,'Edzőtáborok, versenyek'!$B2:$B10,"202108",'Edzőtáborok, versenyek'!$C2:$C10,"verseny") -> 0 | J62: 400000 | K62: 450000 | L62: 450000 | M62: 450000 | N62: =SUM(B62:M62) -> 4350000
A63: Beruházások, egyéb költségek | B63: =SUM(B64:B70) -> 100000 | C63: =SUM(C64:C70) -> 0 | D63: =SUM(D64:D70) -> 0 | E63: =SUM(E64:E70) -> 400000 | F63: =SUM(F64:F70) -> 0 | G63: =SUM(G64:G70) -> 0 | H63: =SUM(H64:H70) -> 0 | I63: =SUM(I64:I70) -> 400000 | ... O63: =SUM(O64:O70) -> 0
A64: Beruházási igények (nem IT jellegű) | N64: =SUM(B64:M64) -> 0
A65: Beruházás, IT jellegű | E65: 400000 | N65: =SUM(B65:M65) -> 400000
A66: Egyéb szakmai tevékenységek költségei | N66: =SUM(B66:M66) -> 0
A67: Előfizetés (Újság, stb.) | N67: =SUM(B67:M67) -> 0
A68: Szervezeti tagsági díjak | B68: 100000 | N68: =SUM(B68:M68) -> 100000
A69: Karácsonyi party gyerekeknek | M69: 200000 | N69: =SUM(B69:M69) -> 200000
A70: Csapatépítő dolgozóknak | I70: 400000 | N70: =SUM(B70:M70) -> 400000
A71: Adók, illetékek | B71: =SUM(B72:B73) -> 26000 | C71: =SUM(C72:C73) -> 0 | D71: =SUM(D72:D73) -> 0 | E71: =SUM(E72:E73) -> 0 | F71: =SUM(F72:F73) -> 0 | G71: =SUM(G72:G73) -> 0 | H71: =SUM(H72:H73) -> 0 | I71: =SUM(I72:I73) -> 26000 | ... O71: =SUM(O72:O73) -> 0
A72: Adók (HIPA) | B72: 26000 | I72: 26000 | N72: =SUM(B72:M72) -> 52000
A73: Illetékek | N73: =SUM(B73:M73) -> 0
A74: Értékcsökkenési leírás
A76: Összes költség és ráfordítás | B76: =B14+B20+B34+B51+B58+B63+B71+B74 -> 7612800 | C76: =C14+C20+C34+C51+C58+C63+C71+C74 -> 8346800 | D76: =D14+D20+D34+D51+D58+D63+D71+D74 -> 9046800 | E76: =E14+E20+E34+E51+E58+E63+E71+E74 -> 8834400 | F76: =F14+F20+F34+F51+F58+F63+F71+F74 -> 8034400 | G76: =G14+G20+G34+G51+G58+G63+G71+G74 -> 9704400 | H76: =H14+H20+H34+H51+H58+H63+H71+H74 -> 14089400 | I76: =I14+I20+I34+I51+I58+I63+I71+I74 -> 6580400 | ... O76: =O14+O20+O34+O51+O58+O63+O71+O74 -> 0
A78: Eredmény | B78: =B3-B76 -> 1087200 | C78: =C3-C76 -> 353200 | D78: =D3-D76 -> -346800 | E78: =E3-E76 -> -134400 | F78: =F3-F76 -> -234400 | G78: =G3-G76 -> -754400 | H78: =H3-H76 -> 3110600 | I78: =I3-I76 -> -2380400 | ... O78: =O3-O76 -> 0

Sheet HR költségek
N1: 2021
N2: Január | Q2: Február | T2: Március | W2: Április | Z2: Május | AC2: Június | AF2: Július | AI2: Augusztus | AL2: Szeptember | AO2: Október | AR2: November | AU2: December | AX2: Összesen 2022
A3: Dolgozók juttatásai | N3: Bruttó bér | O3: Járulékok | P3: Vállalkozói díj | Q3: Bruttó bér | R3: Járulékok | S3: Vállalkozói díj | T3: Bruttó bér | U3: Járulékok | V3: Vállalkozói díj | W3: Bruttó bér | X3: Járulékok | Y3: Vállalkozói díj | Z3: Bruttó bér | AA3: Járulékok | AB3: Vállalkozói díj | AC3: Bruttó bér | AD3: Járulékok | AE3: Vállalkozói díj | AF3: Bruttó bér | AG3: Járulékok | AH3: Vállalkozói díj | AI3: Bruttó bér | AJ3: Járulékok | AK3: Vállalkozói díj | AL3: Bruttó bér | AM3: Járulékok | AN3: Vállalkozói díj | AO3: Bruttó bér | AP3: Járulékok | AQ3: Vállalkozói díj | AR3: Bruttó bér | AS3: Járulékok | AT3: Vállalkozói díj | AU3: Bruttó bér | AV3: Járulékok | AW3: Vállalkozói díj | AX3: Bruttó bér | AY3: Járulékok | AZ3: Vállalkozói díj
A4: Dolgozó 1 | N4: 510000 | O4: =N4*0.15 -> 76500 | P4: =M4 -> 0 | Q4: =N4 -> 510000 | R4: =Q4*0.15 -> 76500 | S4: =P4 -> 0 | T4: =Q4 -> 510000 | U4: =T4*0.15 -> 76500 | V4: =S4 -> 0 | W4: 545000 | X4: =W4*0.15 -> 81750 | Y4: =V4 -> 0 | Z4: =W4 -> 545000 | AA4: =Z4*0.15 -> 81750 | AB4: =Y4 -> 0 | AC4: =Z4 -> 545000 | AD4: =AC4*0.15 -> 81750 | AE4: =AB4 -> 0 | AF4: =AC4 -> 545000 | AG4: =AF4*0.15 -> 81750 | AH4: =AE4 -> 0 | AI4: =AF4 -> 545000 | AJ4: =AI4*0.15 -> 81750 | AK4: =AH4 -> 0 | AL4: =AI4 -> 545000 | AM4: =AL4*0.15 -> 81750 | AN4: =AK4 -> 0 | AO4: =AL4 -> 545000 | AP4: =AO4*0.15 -> 81750 | AQ4: =AN4 -> 0 | AR4: =AO4 -> 545000 | AS4: =AR4*0.15 -> 81750 | AT4: =AQ4 -> 0 | AU4: =AR4 -> 545000 | AV4: =AU4*0.15 -> 81750 | AW4: =AT4 -> 0 | AX4: =N4+Q4+T4+W4+Z4+AC4+AF4+AI4+AL4+AO4+AR4+AU4 -> 6435000 | AY4: =O4+R4+U4+X4+AA4+AD4+AG4+AJ4+AM4+AP4+AS4+AV4 -> 965250 | AZ4: =P4+S4+V4+Y4+AB4+AE4+AH4+AK4+AN4+AQ4+AT4+AW4 -> 0
A5: Dolgozó 2 | N5: 396000 | O5: =N5*0.15 -> 59400 | P5: =M5 -> 0 | Q5: =N5 -> 396000 | R5: =Q5*0.15 -> 59400 | S5: =P5 -> 0 | T5: =Q5 -> 396000 | U5: =T5*0.15 -> 59400 | V5: =S5 -> 0 | W5: 420000 | X5: =W5*0.15 -> 63000 | Y5: =V5 -> 0 | Z5: =W5 -> 420000 | AA5: =Z5*0.15 -> 63000 | AB5: =Y5 -> 0 | AC5: =Z5 -> 420000 | AD5: =AC5*0.15 -> 63000 | AE5: =AB5 -> 0 | AF5: =AC5 -> 420000 | AG5: =AF5*0.15 -> 63000 | AH5: =AE5 -> 0 | AI5: =AF5 -> 420000 | AJ5: =AI5*0.15 -> 63000 | AK5: =AH5 -> 0 | AL5: =AI5 -> 420000 | AM5: =AL5*0.15 -> 63000 | AN5: =AK5 -> 0 | AO5: =AL5 -> 420000 | AP5: =AO5*0.15 -> 63000 | AQ5: =AN5 -> 0 | AR5: =AO5 -> 420000 | AS5: =AR5*0.15 -> 63000 | AT5: =AQ5 -> 0 | AU5: =AR5 -> 420000 | AV5: =AU5*0.15 -> 63000 | AW5: =AT5 -> 0 | AX5: =N5+Q5+T5+W5+Z5+AC5+AF5+AI5+AL5+AO5+AR5+AU5 -> 4968000 | AY5: =O5+R5+U5+X5+AA5+AD5+AG5+AJ5+AM5+AP5+AS5+AV5 -> 745200 | AZ5: =P5+S5+V5+Y5+AB5+AE5+AH5+AK5+AN5+AQ5+AT5+AW5 -> 0
A6: Dolgozó 3 | N6: 320000 | O6: =N6*0.15 -> 48000 | P6: =M6 -> 0 | Q6: =N6 -> 320000 | R6: =Q6*0.15 -> 48000 | S6: =P6 -> 0 | T6: =Q6 -> 320000 | U6: =T6*0.15 -> 48000 | V6: =S6 -> 0 | W6: 350000 | X6: =W6*0.15 -> 52500 | Y6: =V6 -> 0 | Z6: =W6 -> 350000 | AA6: =Z6*0.15 -> 52500 | AB6: =Y6 -> 0 | AC6: =Z6 -> 350000 | AD6: =AC6*0.15 -> 52500 | AE6: =AB6 -> 0 | AF6: =AC6 -> 350000 | AG6: =AF6*0.15 -> 52500 | AH6: =AE6 -> 0 | AI6: =AF6 -> 350000 | AJ6: =AI6*0.15 -> 52500 | AK6: =AH6 -> 0 | AL6: =AI6 -> 350000 | AM6: =AL6*0.15 -> 52500 | AN6: =AK6 -> 0 | AO6: =AL6 -> 350000 | AP6: =AO6*0.15 -> 52500 | AQ6: =AN6 -> 0 | AR6: =AO6 -> 350000 | AS6: =AR6*0.15 -> 52500 | AT6: =AQ6 -> 0 | AU6: =AR6 -> 350000 | AV6: =AU6*0.15 -> 52500 | AW6: =AT6 -> 0 | AX6: =N6+Q6+T6+W6+Z6+AC6+AF6+AI6+AL6+AO6+AR6+AU6 -> 4110000 | AY6: =O6+R6+U6+X6+AA6+AD6+AG6+AJ6+AM6+AP6+AS6+AV6 -> 616500 | AZ6: =P6+S6+V6+Y6+AB6+AE6+AH6+AK6+AN6+AQ6+AT6+AW6 -> 0
A7: Dolgozó 4 | N7: 320000 | O7: =N7*0.15 -> 48000 | P7: =M7 -> 0 | Q7: =N7 -> 320000 | R7: =Q7*0.15 -> 48000 | S7: =P7 -> 0 | T7: =Q7 -> 320000 | U7: =T7*0.15 -> 48000 | V7: =S7 -> 0 | W7: 350000 | X7: =W7*0.15 -> 52500 | Y7: =V7 -> 0 | Z7: =W7 -> 350000 | AA7: =Z7*0.15 -> 52500 | AB7: =Y7 -> 0 | AC7: =Z7 -> 350000 | AD7: =AC7*0.15 -> 52500 | AE7: =AB7 -> 0 | AF7: =AC7 -> 350000 | AG7: =AF7*0.15 -> 52500 | AH7: =AE7 -> 0 | AI7: =AF7 -> 350000 | AJ7: =AI7*0.15 -> 52500 | AK7: =AH7 -> 0 | AL7: =AI7 -> 350000 | AM7: =AL7*0.15 -> 52500 | AN7: =AK7 -> 0 | AO7: =AL7 -> 350000 | AP7: =AO7*0.15 -> 52500 | AQ7: =AN7 -> 0 | AR7: =AO7 -> 350000 | AS7: =AR7*0.15 -> 52500 | AT7: =AQ7 -> 0 | AU7: =AR7 -> 350000 | AV7: =AU7*0.15 -> 52500 | AW7: =AT7 -> 0 | AX7: =N7+Q7+T7+W7+Z7+AC7+AF7+AI7+AL7+AO7+AR7+AU7 -> 4110000 | AY7: =O7+R7+U7+X7+AA7+AD7+AG7+AJ7+AM7+AP7+AS7+AV7 -> 616500 | AZ7: =P7+S7+V7+Y7+AB7+AE7+AH7+AK7+AN7+AQ7+AT7+AW7 -> 0
A8: Dolgozó 5 | N8: 414000 | O8: =N8*0.15 -> 62100 | P8: =M8 -> 0 | Q8: =N8 -> 414000 | R8: =Q8*0.15 -> 62100 | S8: =P8 -> 0 | T8: =Q8 -> 414000 | U8: =T8*0.15 -> 62100 | V8: =S8 -> 0 | W8: 450000 | X8: =W8*0.15 -> 67500 | Y8: =V8 -> 0 | Z8: =W8 -> 450000 | AA8: =Z8*0.15 -> 67500 | AB8: =Y8 -> 0 | AC8: =Z8 -> 450000 | AD8: =AC8*0.15 -> 67500 | AE8: =AB8 -> 0 | AF8: =AC8 -> 450000 | AG8: =AF8*0.15 -> 67500 | AH8: =AE8 -> 0 | AI8: =AF8 -> 450000 | AJ8: =AI8*0.15 -> 67500 | AK8: =AH8 -> 0 | AL8: =AI8 -> 450000 | AM8: =AL8*0.15 -> 67500 | AN8: =AK8 -> 0 | AO8: =AL8 -> 450000 | AP8: =AO8*0.15 -> 67500 | AQ8: =AN8 -> 0 | AR8: =AO8 -> 450000 | AS8: =AR8*0.15 -> 67500 | AT8: =AQ8 -> 0 | AU8: =AR8 -> 450000 | AV8: =AU8*0.15 -> 67500 | AW8: =AT8 -> 0 | AX8: =N8+Q8+T8+W8+Z8+AC8+AF8+AI8+AL8+AO8+AR8+AU8 -> 5292000 | AY8: =O8+R8+U8+X8+AA8+AD8+AG8+AJ8+AM8+AP8+AS8+AV8 -> 793800 | AZ8: =P8+S8+V8+Y8+AB8+AE8+AH8+AK8+AN8+AQ8+AT8+AW8 -> 0
A9: Dolgozó 6 | N9: 471000 | O9: =N9*0.15 -> 70650 | P9: =M9 -> 0 | Q9: =N9 -> 471000 | R9: =Q9*0.15 -> 70650 | S9: =P9 -> 0 | T9: =Q9 -> 471000 | U9: =T9*0.15 -> 70650 | V9: =S9 -> 0 | W9: =T9 -> 471000 | X9: =W9*0.15 -> 70650 | Y9: =V9 -> 0 | Z9: =W9 -> 471000 | AA9: =Z9*0.15 -> 70650 | AB9: =Y9 -> 0 | AC9: =Z9 -> 471000 | AD9: =AC9*0.15 -> 70650 | AE9: =AB9 -> 0 | AF9: =AC9 -> 471000 | AG9: =AF9*0.15 -> 70650 | AH9: =AE9 -> 0 | AI9: =AF9 -> 471000 | AJ9: =AI9*0.15 -> 70650 | AK9: =AH9 -> 0 | AL9: =AI9 -> 471000 | AM9: =AL9*0.15 -> 70650 | AN9: =AK9 -> 0 | AO9: =AL9 -> 471000 | AP9: =AO9*0.15 -> 70650 | AQ9: =AN9 -> 0 | AR9: =AO9 -> 471000 | AS9: =AR9*0.15 -> 70650 | AT9: =AQ9 -> 0 | AU9: =AR9 -> 471000 | AV9: =AU9*0.15 -> 70650 | AW9: =AT9 -> 0 | AX9: =N9+Q9+T9+W9+Z9+AC9+AF9+AI9+AL9+AO9+AR9+AU9 -> 5652000 | AY9: =O9+R9+U9+X9+AA9+AD9+AG9+AJ9+AM9+AP9+AS9+AV9 -> 847800 | AZ9: =P9+S9+V9+Y9+AB9+AE9+AH9+AK9+AN9+AQ9+AT9+AW9 -> 0
A10: Dolgozó 7 | N10: 431000 | O10: =N10*0.15 -> 64650 | P10: =M10 -> 0 | Q10: =N10 -> 431000 | R10: =Q10*0.15 -> 64650 | S10: =P10 -> 0 | T10: =Q10 -> 431000 | U10: =T10*0.15 -> 64650 | V10: =S10 -> 0 | W10: 470000 | X10: =W10*0.15 -> 70500 | Y10: =V10 -> 0 | Z10: =W10 -> 470000 | AA10: =Z10*0.15 -> 70500 | AB10: =Y10 -> 0 | AC10: =Z10 -> 470000 | AD10: =AC10*0.15 -> 70500 | AE10: =AB10 -> 0 | AF10: =AC10 -> 470000 | AG10: =AF10*0.15 -> 70500 | AH10: =AE10 -> 0 | AI10: =AF10 -> 470000 | AJ10: =AI10*0.15 -> 70500 | AK10: =AH10 -> 0 | AL10: =AI10 -> 470000 | AM10: =AL10*0.15 -> 70500 | AN10: =AK10 -> 0 | AO10: =AL10 -> 470000 | AP10: =AO10*0.15 -> 70500 | AQ10: =AN10 -> 0 | AR10: =AO10 -> 470000 | AS10: =AR10*0.15 -> 70500 | AT10: =AQ10 -> 0 | AU10: =AR10 -> 470000 | AV10: =AU10*0.15 -> 70500 | AW10: =AT10 -> 0 | AX10: =N10+Q10+T10+W10+Z10+AC10+AF10+AI10+AL10+AO10+AR10+AU10 -> 5523000 | AY10: =O10+R10+U10+X10+AA10+AD10+AG10+AJ10+AM10+AP10+AS10+AV10 -> 828450 | AZ10: =P10+S10+V10+Y10+AB10+AE10+AH10+AK10+AN10+AQ10+AT10+AW10 -> 0
A11: Dolgozó 8 | N11: 320000 | O11: =N11*0.15 -> 48000 | Q11: =N11 -> 320000 | R11: =Q11*0.15 -> 48000 | T11: =Q11 -> 320000 | U11: =T11*0.15 -> 48000 | W11: 350000 | X11: =W11*0.15 -> 52500 | Z11: =W11 -> 350000 | AA11: =Z11*0.15 -> 52500 | AC11: =Z11 -> 350000 | AD11: =AC11*0.15 -> 52500 | AF11: =AC11 -> 350000 | AG11: =AF11*0.15 -> 52500 | AI11: =AF11 -> 350000 | AJ11: =AI11*0.15 -> 52500 | AL11: =AI11 -> 350000 | AM11: =AL11*0.15 -> 52500 | AO11: =AL11 -> 350000 | AP11: =AO11*0.15 -> 52500 | AR11: =AO11 -> 350000 | AS11: =AR11*0.15 -> 52500 | AU11: =AR11 -> 350000 | AV11: =AU11*0.15 -> 52500 | AX11: =N11+Q11+T11+W11+Z11+AC11+AF11+AI11+AL11+AO11+AR11+AU11 -> 4110000 | AY11: =O11+R11+U11+X11+AA11+AD11+AG11+AJ11+AM11+AP11+AS11+AV11 -> 616500
A12: Dolgozó 9 | N12: 150000 | O12: =N12*0.15 -> 22500 | P12: =M12 -> 0 | Q12: =N12 -> 150000 | R12: =Q12*0.15 -> 22500 | S12: =P12 -> 0 | T12: =Q12 -> 150000 | U12: =T12*0.15 -> 22500 | V12: =S12 -> 0 | W12: =T12 -> 150000 | X12: =W12*0.15 -> 22500 | Y12: =V12 -> 0 | Z12: =W12 -> 150000 | AA12: =Z12*0.15 -> 22500 | AB12: =Y12 -> 0 | AC12: =Z12 -> 150000 | AD12: =AC12*0.15 -> 22500 | AE12: =AB12 -> 0 | AF12: =AC12 -> 150000 | AG12: =AF12*0.15 -> 22500 | AH12: =AE12 -> 0 | AI12: =AF12 -> 150000 | AJ12: =AI12*0.15 -> 22500 | AK12: =AH12 -> 0 | AL12: =AI12 -> 150000 | AM12: =AL12*0.15 -> 22500 | AN12: =AK12 -> 0 | AO12: =AL12 -> 150000 | AP12: =AO12*0.15 -> 22500 | AQ12: =AN12 -> 0 | AR12: =AO12 -> 150000 | AS12: =AR12*0.15 -> 22500 | AT12: =AQ12 -> 0 | AU12: =AR12 -> 150000 | AV12: =AU12*0.15 -> 22500 | AW12: =AT12 -> 0 | AX12: =N12+Q12+T12+W12+Z12+AC12+AF12+AI12+AL12+AO12+AR12+AU12 -> 1800000 | AY12: =O12+R12+U12+X12+AA12+AD12+AG12+AJ12+AM12+AP12+AS12+AV12 -> 270000 | AZ12: =P12+S12+V12+Y12+AB12+AE12+AH12+AK12+AN12+AQ12+AT12+AW12 -> 0
A13: Dolgozó 10 | N13: 300000 | O13: =N13*0.15 -> 45000 | Q13: =N13 -> 300000 | R13: =Q13*0.15 -> 45000 | T13: =Q13 -> 300000 | U13: =T13*0.15 -> 45000 | W13: =T13 -> 300000 | X13: =W13*0.15 -> 45000 | Z13: =W13 -> 300000 | AA13: =Z13*0.15 -> 45000 | AC13: =Z13 -> 300000 | AD13: =AC13*0.15 -> 45000 | AF13: =AC13 -> 300000 | AG13: =AF13*0.15 -> 45000 | AH13: =AE13 -> 0 | AI13: =AF13 -> 300000 | AJ13: =AI13*0.15 -> 45000 | AK13: =AH13 -> 0 | AL13: =AI13 -> 300000 | AM13: =AL13*0.15 -> 45000 | AN13: =AK13 -> 0 | AO13: =AL13 -> 300000 | AP13: =AO13*0.15 -> 45000 | AR13: =AO13 -> 300000 | AS13: =AR13*0.15 -> 45000 | AU13: =AR13 -> 300000 | AV13: =AU13*0.15 -> 45000 | AX13: =N13+Q13+T13+W13+Z13+AC13+AF13+AI13+AL13+AO13+AR13+AU13 -> 3600000 | AY13: =O13+R13+U13+X13+AA13+AD13+AG13+AJ13+AM13+AP13+AS13+AV13 -> 540000
A14: Dolgozó 11 | AL14: 320000 | AM14: =AL14*0.15 -> 48000 | AO14: =AL14 -> 320000 | AP14: =AO14*0.15 -> 48000 | AR14: =AO14 -> 320000 | AS14: =AR14*0.15 -> 48000 | AU14: =AR14 -> 320000 | AV14: =AU14*0.15 -> 48000 | AX14: =N14+Q14+T14+W14+Z14+AC14+AF14+AI14+AL14+AO14+AR14+AU14 -> 1280000 | AY14: =O14+R14+U14+X14+AA14+AD14+AG14+AJ14+AM14+AP14+AS14+AV14 -> 192000
A15: Dolgozó 12 | AL15: 320000 | AM15: =AL15*0.15 -> 48000 | AO15: =AL15 -> 320000 | AP15: =AO15*0.15 -> 48000 | AR15: =AO15 -> 320000 | AS15: =AR15*0.15 -> 48000 | AU15: =AR15 -> 320000 | AV15: =AU15*0.15 -> 48000 | AX15: =N15+Q15+T15+W15+Z15+AC15+AF15+AI15+AL15+AO15+AR15+AU15 -> 1280000 | AY15: =O15+R15+U15+X15+AA15+AD15+AG15+AJ15+AM15+AP15+AS15+AV15 -> 192000
A16: Versenyzők juttatásai | N16: Bruttó bér | O16: Járulékok | P16: Vállalkozói díj | Q16: Bruttó bér | R16: Járulékok | S16: Vállalkozói díj | T16: Bruttó bér | U16: Járulékok | V16: Vállalkozói díj | W16: Bruttó bér | X16: Járulékok | Y16: Vállalkozói díj | Z16: Bruttó bér | AA16: Járulékok | AB16: Vállalkozói díj | AC16: Bruttó bér | AD16: Járulékok | AE16: Vállalkozói díj | AF16: Bruttó bér | AG16: Járulékok | AH16: Vállalkozói díj | AI16: Bruttó bér | AJ16: Járulékok | AK16: Vállalkozói díj | AL16: Bruttó bér | AM16: Járulékok | AN16: Vállalkozói díj | AO16: Bruttó bér | AP16: Járulékok | AQ16: Vállalkozói díj | AR16: Bruttó bér | AS16: Járulékok | AT16: Vállalkozói díj | AU16: Bruttó bér | AV16: Járulékok | AW16: Vállalkozói díj | AX16: Bruttó bér | AY16: Járulékok | AZ16: Vállalkozói díj
O17: =N17*0.185 -> 0 | R17: =Q17*0.185 -> 0 | U17: =T17*0.185 -> 0 | X17: =W17*0.185 -> 0 | AA17: =Z17*0.185 -> 0 | AD17: =AC17*0.185 -> 0 | AG17: =AF17*0.185 -> 0 | AJ17: =AI17*0.185 -> 0 | AM17: =AL17*0.185 -> 0 | AP17: =AO17*0.185 -> 0 | AS17: =AR17*0.185 -> 0 | AV17: =AU17*0.185 -> 0 | AX17: =N17+Q17+T17+W17+Z17+AC17+AF17+AI17+AL17+AO17+AR17+AU17 -> 0 | AY17: =O17+R17+U17+X17+AA17+AD17+AG17+AJ17+AM17+AP17+AS17+AV17 -> 0 | AZ17: =P17+S17+V17+Y17+AB17+AE17+AH17+AK17+AN17+AQ17+AT17+AW17 -> 0
O18: =N18*0.185 -> 0 | R18: =Q18*0.185 -> 0 | U18: =T18*0.185 -> 0 | X18: =W18*0.185 -> 0 | AA18: =Z18*0.185 -> 0 | AD18: =AC18*0.185 -> 0 | AG18: =AF18*0.185 -> 0 | AJ18: =AI18*0.185 -> 0 | AM18: =AL18*0.185 -> 0 | AP18: =AO18*0.185 -> 0 | AS18: =AR18*0.185 -> 0 | AV18: =AU18*0.185 -> 0 | AX18: =N18+Q18+T18+W18+Z18+AC18+AF18+AI18+AL18+AO18+AR18+AU18 -> 0 | AY18: =O18+R18+U18+X18+AA18+AD18+AG18+AJ18+AM18+AP18+AS18+AV18 -> 0 | AZ18: =P18+S18+V18+Y18+AB18+AE18+AH18+AK18+AN18+AQ18+AT18+AW18 -> 0
A19: Összesen | N19: =SUM(N4:N15)+SUM(N17:N18) -> 3632000 | O19: =SUM(O4:O15)+SUM(O17:O18) -> 544800 | P19: =SUM(P4:P12)+SUM(P17:P18) -> 0 | Q19: =SUM(Q4:Q15)+SUM(Q17:Q18) -> 3632000 | R19: =SUM(R4:R15)+SUM(R17:R18) -> 544800 | S19: =SUM(S4:S12)+SUM(S17:S18) -> 0 | T19: =SUM(T4:T15)+SUM(T17:T18) -> 3632000 | U19: =SUM(U4:U15)+SUM(U17:U18) -> 544800 | V19: =SUM(V4:V12)+SUM(V17:V18) -> 0 | W19: =SUM(W4:W15)+SUM(W17:W18) -> 3856000 | X19: =SUM(X4:X15)+SUM(X17:X18) -> 578400 | Y19: =SUM(Y4:Y12)+SUM(Y17:Y18) -> 0 | Z19: =SUM(Z4:Z15)+SUM(Z17:Z18) -> 3856000 | AA19: =SUM(AA4:AA15)+SUM(AA17:AA18) -> 578400 | AB19: =SUM(AB4:AB12)+SUM(AB17:AB18) -> 0 | AC19: =SUM(AC4:AC15)+SUM(AC17:AC18) -> 3856000 | AD19: =SUM(AD4:AD15)+SUM(AD17:AD18) -> 578400 | AE19: =SUM(AE4:AE12)+SUM(AE17:AE18) -> 0 | AF19: =SUM(AF4:AF15)+SUM(AF17:AF18) -> 3856000 | AG19: =SUM(AG4:AG15)+SUM(AG17:AG18) -> 578400 | AH19: =SUM(AH4:AH12)+SUM(AH17:AH18) -> 0 | AI19: =SUM(AI4:AI15)+SUM(AI17:AI18) -> 3856000 | AJ19: =SUM(AJ4:AJ15)+SUM(AJ17:AJ18) -> 578400 | AK19: =SUM(AK4:AK12)+SUM(AK17:AK18) -> 0 | AL19: =SUM(AL4:AL15)+SUM(AL17:AL18) -> 4496000 | AM19: =SUM(AM4:AM15)+SUM(AM17:AM18) -> 674400 | AN19: =SUM(AN4:AN12)+SUM(AN17:AN18) -> 0 | AO19: =SUM(AO4:AO15)+SUM(AO17:AO18) -> 4496000 | AP19: =SUM(AP4:AP15)+SUM(AP17:AP18) -> 674400 | AQ19: =SUM(AQ4:AQ12)+SUM(AQ17:AQ18) -> 0 | AR19: =SUM(AR4:AR15)+SUM(AR17:AR18) -> 4496000 | AS19: =SUM(AS4:AS15)+SUM(AS17:AS18) -> 674400 | AT19: =SUM(AT4:AT12)+SUM(AT17:AT18) -> 0 | AU19: =SUM(AU4:AU15)+SUM(AU17:AU18) -> 4496000 | AV19: =SUM(AV4:AV15)+SUM(AV17:AV18) -> 674400 | AW19: =SUM(AW4:AW12)+SUM(AW17:AW18) -> 0 | AX19: =SUM(AX4:AX12) -> 42000000 | AY19: =SUM(AY4:AY12) -> 6300000 | AZ19: =SUM(AZ4:AZ12) -> 0

Sheet Edzőtáborok, versenyek
A1: Időpont | B1: Év+hó | C1: Típus | D1: Helyszín | E1: Fő | F1: Szállás | G1: Étkezés | H1: Nevezési díj | I1: Egyéb költség | J1: Összesen | K1: Megjegyzés
A2: 2022.02.06-02.19. | B2: 202202 | C2: edzőtábor | D2: Gyula? | E2: 3 | F2: =13*E2*12000 -> 468000 | G2: =13*E2*5000 -> 195000 | H2: 0 | I2: MUSZ költség | J2: =F2+G2+H2 -> 663000
A3: 2022.03.06-03.26. | B3: 202203 | C3: edzőtábor | D3: Kanári-szigetek | E3: 5 | F3: =13*E3*12000 -> 780000 | G3: =13*E3*5000 -> 325000 | H3: 0 | I3: 3 fő MUSZ költség | J3: =F3+G3+H3 -> 1105000
A4: Az IFI Ob és IFI EB időpontjától függően V-VI. hó | B4: 202205 | C4: edzőtábor | D4: Veszprém vagy Gyula vagy egyéb helyszín | E4: 2 | I4: MUSZ költség | J4: =F4+G4+H4 -> 0
A5: Az IFI Ob és IFI EB időpontjától függően | B5: 202207 | C5: verseny | D5: IFI EB | E5: 2 | I5: MUSZ költség | J5: =F5+G5+H5 -> 0
A6: B2 csoport | B6: 2022 06.26-07.02. | C6: edzőtábor | D6: Gyula | E6: 16 | J6: 1805000
A7: B1 csoport | B7: 2022 07.03-07.09 | E7: 14
J8: =F8+G8+H8+I8 -> 0
J9: =F9+G9+H9+I9 -> 0
J10: =F10+G10+H10+I10 -> 0
